BEGIN:VCALENDAR
VERSION:2.0
PRODID:-//eventon.com NONSGML v1.0//EN
CALSCALE:GREGORIAN
METHOD:PUBLISH
BEGIN:VEVENT
UID:69e894b134882
DTSTAMP:20260422T092817Z
DTSTART:20260610
DTEND:20260611
LOCATION:
SUMMARY:Texas State Championship
DESCRIPTION:\nhttps://mysctp.com/events/texas-state-championship-4/
URL:https://mysctp.com/events/texas-state-championship-4/
END:VEVENT
END:VCALENDAR