BEGIN:VCALENDAR
VERSION:2.0
PRODID:-//eventon.com NONSGML v1.0//EN
CALSCALE:GREGORIAN
METHOD:PUBLISH
BEGIN:VEVENT
UID:69e884ed11029
DTSTAMP:20260422T082101Z
DTSTART:20260613
DTEND:20260614
LOCATION:Missouri Trap Shooters Association  51 Trapshooters Rd
SUMMARY:Missouri State Trap and Sporting Clays Championship
DESCRIPTION:\nhttps://mysctp.com/events/missouri-state-trap-and-sporting-cl
 ays-championship/
URL:https://mysctp.com/events/missouri-state-trap-and-sporting-clays-championship/
END:VEVENT
END:VCALENDAR