BEGIN:VCALENDAR
VERSION:2.0
PRODID:-//eventon.com NONSGML v1.0//EN
CALSCALE:GREGORIAN
METHOD:PUBLISH
BEGIN:VEVENT
UID:69eb24aa02835
DTSTAMP:20260424T080706Z
DTSTART:20260424
DTEND:20260425
LOCATION:Prairie Grove Shooting Sports Complex
SUMMARY:2026 Prairie Grove Regional
DESCRIPTION:This will be a Team Self Pull and Score Event.\nhttps://mysctp.
 com/events/2026-prairie-grove-regional/
URL:https://mysctp.com/events/2026-prairie-grove-regional/
END:VEVENT
END:VCALENDAR