BEGIN:VCALENDAR
VERSION:2.0
PRODID:-//eventon.com NONSGML v1.0//EN
CALSCALE:GREGORIAN
METHOD:PUBLISH
BEGIN:VEVENT
UID:69e8949f277a7
DTSTAMP:20260422T092759Z
DTSTART:20260612
DTEND:20260613
LOCATION:Juneau Gun Club Montana Creek Road
SUMMARY:Alaska SCTP State Championship
DESCRIPTION:\nhttps://mysctp.com/events/alaska-sctp-state-championship/
URL:https://mysctp.com/events/alaska-sctp-state-championship/
END:VEVENT
END:VCALENDAR