BEGIN:VCALENDAR
VERSION:2.0
PRODID:-//eventon.com NONSGML v1.0//EN
CALSCALE:GREGORIAN
METHOD:PUBLISH
BEGIN:VEVENT
UID:69e88881031a1
DTSTAMP:20260422T083617Z
DTSTART:20260606
DTEND:20260607
LOCATION:Kiowa Creek Sporting Club 46700 E County Rd 30
SUMMARY:Colorado State Sporting Clays Championship
DESCRIPTION:\nhttps://mysctp.com/events/colorado-state-sporting-clays-champ
 ionship/
URL:https://mysctp.com/events/colorado-state-sporting-clays-championship/
END:VEVENT
END:VCALENDAR