BEGIN:VCALENDAR
VERSION:2.0
PRODID:-//eventon.com NONSGML v1.0//EN
CALSCALE:GREGORIAN
METHOD:PUBLISH
BEGIN:VEVENT
UID:69e895baa402a
DTSTAMP:20260422T093242Z
DTSTART:20260606
DTEND:20260607
LOCATION:Casper Trap\,  Skeet and Sporting Clays 700 JC's Way
SUMMARY:Wyoming State Championship
DESCRIPTION:\nhttps://mysctp.com/events/wyoming-state-championship-3/
URL:https://mysctp.com/events/wyoming-state-championship-3/
END:VEVENT
END:VCALENDAR