BEGIN:VCALENDAR
VERSION:2.0
PRODID:-//eventon.com NONSGML v1.0//EN
CALSCALE:GREGORIAN
METHOD:PUBLISH
BEGIN:VEVENT
UID:69e4c5f923f31
DTSTAMP:20260419T120929Z
DTSTART:20260628
DTEND:20260629
LOCATION:
SUMMARY:Montana State Sporting Clays Championship
DESCRIPTION:Location TBD\nhttps://mysctp.com/events/montana-state-sporting-
 clays-championship/
URL:https://mysctp.com/events/montana-state-sporting-clays-championship/
END:VEVENT
END:VCALENDAR