BEGIN:VCALENDAR
VERSION:2.0
PRODID:-//eventon.com NONSGML v1.0//EN
CALSCALE:GREGORIAN
METHOD:PUBLISH
BEGIN:VEVENT
UID:69e89c921fb46
DTSTAMP:20260422T100154Z
DTSTART:20260417
DTEND:20260418
LOCATION:Minneapolis Gun Club 20006 Judicial Rd
SUMMARY:Minnesota State Trap and Skeet Championship
DESCRIPTION:Trap will be shot June 17 and Skeet will be June 18th.\nhttps:/
 /mysctp.com/events/minnesota-state-trap-and-skeet-championship/
URL:https://mysctp.com/events/minnesota-state-trap-and-skeet-championship/
END:VEVENT
END:VCALENDAR