BEGIN:VCALENDAR
VERSION:2.0
PRODID:-//eventon.com NONSGML v1.0//EN
CALSCALE:GREGORIAN
METHOD:PUBLISH
BEGIN:VEVENT
UID:69e89607cf2f6
DTSTAMP:20260422T093359Z
DTSTART:20260516
DTEND:20260517
LOCATION:
SUMMARY:Iowa International Skeet Championship
DESCRIPTION:\nhttps://mysctp.com/events/iowa-international-skeet-championsh
 ip/
URL:https://mysctp.com/events/iowa-international-skeet-championship/
END:VEVENT
END:VCALENDAR