BEGIN:VCALENDAR
VERSION:2.0
PRODID:-//eventon.com NONSGML v1.0//EN
CALSCALE:GREGORIAN
METHOD:PUBLISH
BEGIN:VEVENT
UID:69e89db39ffed
DTSTAMP:20260422T100643Z
DTSTART:20260516
DTEND:20260517
LOCATION:AVAD Hunt Club 26321 IA-141
SUMMARY:Iowa International Trap Championship
DESCRIPTION:\nhttps://mysctp.com/events/iowa-international-trap-championshi
 p/
URL:https://mysctp.com/events/iowa-international-trap-championship/
END:VEVENT
END:VCALENDAR