BEGIN:VCALENDAR
VERSION:2.0
PRODID:-//eventon.com NONSGML v1.0//EN
CALSCALE:GREGORIAN
METHOD:PUBLISH
BEGIN:VEVENT
UID:69e894dc522e1
DTSTAMP:20260422T092900Z
DTSTART:20260627
DTEND:20260628
LOCATION:St. Joe Valley Conservation Club 5871 Co Rd 60
SUMMARY:Indiana State Trap/Skeet Championship
DESCRIPTION:\nhttps://mysctp.com/events/indiana-state-trap-skeet-championsh
 ip/
URL:https://mysctp.com/events/indiana-state-trap-skeet-championship/
END:VEVENT
END:VCALENDAR