BEGIN:VCALENDAR
VERSION:2.0
PRODID:-//eventon.com NONSGML v1.0//EN
CALSCALE:GREGORIAN
METHOD:PUBLISH
BEGIN:VEVENT
UID:69e8957dad62b
DTSTAMP:20260422T093141Z
DTSTART:20260613
DTEND:20260614
LOCATION:Sporting Club at The Farm 4939 River Rd
SUMMARY:Indiana State Sporting Clay Championship
DESCRIPTION:\nhttps://mysctp.com/events/indiana-state-sporting-clay-champio
 nship/
URL:https://mysctp.com/events/indiana-state-sporting-clay-championship/
END:VEVENT
END:VCALENDAR