BEGIN:VCALENDAR
VERSION:2.0
PRODID:-//eventon.com NONSGML v1.0//EN
CALSCALE:GREGORIAN
METHOD:PUBLISH
BEGIN:VEVENT
UID:69e894e6695b2
DTSTAMP:20260422T092910Z
DTSTART:20260509
DTEND:20260510
LOCATION:Rowan County Wildlife Association 650 Majolica Rd
SUMMARY:North Carolina Skeet Championship
DESCRIPTION:\nhttps://mysctp.com/events/north-carolina-skeet-championship/
URL:https://mysctp.com/events/north-carolina-skeet-championship/
END:VEVENT
END:VCALENDAR