BEGIN:VCALENDAR
VERSION:2.0
PRODID:-//eventon.com NONSGML v1.0//EN
CALSCALE:GREGORIAN
METHOD:PUBLISH
BEGIN:VEVENT
UID:69eb3a36ceb2f
DTSTAMP:20260424T093902Z
DTSTART:20260627
DTEND:20260628
LOCATION:Hartford Gun Club 157 S Main St
SUMMARY:Connecticut State Trap Championship
DESCRIPTION:\nhttps://mysctp.com/events/connecticut-state-trap-championship
 /
URL:https://mysctp.com/events/connecticut-state-trap-championship/
END:VEVENT
END:VCALENDAR