BEGIN:VCALENDAR
VERSION:2.0
PRODID:-//eventon.com NONSGML v1.0//EN
CALSCALE:GREGORIAN
METHOD:PUBLISH
BEGIN:VEVENT
UID:69eb27152e235
DTSTAMP:20260424T081725Z
DTSTART:20260627
DTEND:20260628
LOCATION:North Forest Rod &amp; Gun Club 6257 Old Niagara Rd
SUMMARY:New York State Sporting Clays Championship
DESCRIPTION:\nhttps://mysctp.com/events/new-york-state-sporting-clays-champ
 ionship/
URL:https://mysctp.com/events/new-york-state-sporting-clays-championship/
END:VEVENT
END:VCALENDAR