BEGIN:VCALENDAR
VERSION:2.0
PRODID:-//eventon.com NONSGML v1.0//EN
CALSCALE:GREGORIAN
METHOD:PUBLISH
BEGIN:VEVENT
UID:69e88900194d6
DTSTAMP:20260422T083824Z
DTSTART:20260613
DTEND:20260614
LOCATION:Pathfinder Fish &amp; Game Club 116 Crescent Rd
SUMMARY:New York State Trap Championship
DESCRIPTION:\nhttps://mysctp.com/events/new-york-state-trap-championship/
URL:https://mysctp.com/events/new-york-state-trap-championship/
END:VEVENT
END:VCALENDAR