BEGIN:VCALENDAR
VERSION:2.0
PRODID:-//eventon.com NONSGML v1.0//EN
CALSCALE:GREGORIAN
METHOD:PUBLISH
BEGIN:VEVENT
UID:69e8951a77189
DTSTAMP:20260422T093002Z
DTSTART:20260626
DTEND:20260627
LOCATION:PSSA Homegrounds 405 Monastery Rd
SUMMARY:Pennsylvania State Trap and Sporting Clays Championship
DESCRIPTION:\nhttps://mysctp.com/events/pennsylvania-state-trap-and-sportin
 g-clays-championship/
URL:https://mysctp.com/events/pennsylvania-state-trap-and-sporting-clays-championship/
END:VEVENT
END:VCALENDAR