BEGIN:VCALENDAR
VERSION:2.0
PRODID:-//eventon.com NONSGML v1.0//EN
CALSCALE:GREGORIAN
METHOD:PUBLISH
BEGIN:VEVENT
UID:69e8a85504a6d
DTSTAMP:20260422T105205Z
DTSTART:20260628
DTEND:20260629
LOCATION:World Shooting and Recreational Complex 1 Main Event Ln #510
SUMMARY:Illinois State Sporting and Skeet Championship
DESCRIPTION:\nhttps://mysctp.com/events/illinois-state-sporting-and-skeet-c
 hampionship/
URL:https://mysctp.com/events/illinois-state-sporting-and-skeet-championship/
END:VEVENT
END:VCALENDAR