BEGIN:VCALENDAR
VERSION:2.0
PRODID:-//eventon.com NONSGML v1.0//EN
CALSCALE:GREGORIAN
METHOD:PUBLISH
BEGIN:VEVENT
UID:69e89bfd78065
DTSTAMP:20260422T095925Z
DTSTART:20260627
DTEND:20260628
LOCATION:World Shooting and Recreational Complex 1 Main Event Ln #510
SUMMARY:Illinois State Trap Championship
DESCRIPTION:Trap Singles\nhttps://mysctp.com/events/illinois-state-trap-cha
 mpionship/
URL:https://mysctp.com/events/illinois-state-trap-championship/
END:VEVENT
END:VCALENDAR