BEGIN:VCALENDAR
VERSION:2.0
PRODID:-//eventon.com NONSGML v1.0//EN
CALSCALE:GREGORIAN
METHOD:PUBLISH
BEGIN:VEVENT
UID:69eb26b289bda
DTSTAMP:20260424T081546Z
DTSTART:20260626
DTEND:20260627
LOCATION:World Shooting and Recreational Complex 1 Main Event Ln #510
SUMMARY:Illinois State Doubles Championship
DESCRIPTION:Doubles Skeet and Doubles Trap\nhttps://mysctp.com/events/illin
 ois-state-championship-3/
URL:https://mysctp.com/events/illinois-state-championship-3/
END:VEVENT
END:VCALENDAR