BEGIN:VCALENDAR
VERSION:2.0
PRODID:-//eventon.com NONSGML v1.0//EN
CALSCALE:GREGORIAN
METHOD:PUBLISH
BEGIN:VEVENT
UID:69e8a72b37c83
DTSTAMP:20260422T104707Z
DTSTART:20260612
DTEND:20260613
LOCATION:John A Halter Shooting Center 4390 Bankers Rd
SUMMARY:Michigan State International Championships and Camp
DESCRIPTION:International Camp\,  International Trap\,  and International S
 keet\nhttps://mysctp.com/events/michigan-state-international-championships-
 and-camp/
URL:https://mysctp.com/events/michigan-state-international-championships-and-camp/
END:VEVENT
END:VCALENDAR