BEGIN:VCALENDAR
VERSION:2.0
PRODID:-//eventon.com NONSGML v1.0//EN
CALSCALE:GREGORIAN
METHOD:PUBLISH
BEGIN:VEVENT
UID:69e8a71700677
DTSTAMP:20260422T104647Z
DTSTART:20260628
DTEND:20260629
LOCATION:Winchester Gun Club 3109 S 27th St
SUMMARY:Wisconsin State International Skeet Championship
DESCRIPTION:\nhttps://mysctp.com/events/wisconsin-state-international-skeet
 -championship/
URL:https://mysctp.com/events/wisconsin-state-international-skeet-championship/
END:VEVENT
END:VCALENDAR