BEGIN:VCALENDAR
VERSION:2.0
PRODID:-//eventon.com NONSGML v1.0//EN
CALSCALE:GREGORIAN
METHOD:PUBLISH
BEGIN:VEVENT
UID:69e89c4f302d3
DTSTAMP:20260422T100047Z
DTSTART:20260627
DTEND:20260628
LOCATION:Winchester Gun Club 3109 S 27th St
SUMMARY:Wisconsin State International Trap Championship
DESCRIPTION:\nhttps://mysctp.com/events/wisconsin-state-international-trap-
 championship/
URL:https://mysctp.com/events/wisconsin-state-international-trap-championship/
END:VEVENT
END:VCALENDAR