BEGIN:VCALENDAR
VERSION:2.0
PRODID:-//eventon.com NONSGML v1.0//EN
CALSCALE:GREGORIAN
METHOD:PUBLISH
BEGIN:VEVENT
UID:69e895a46b60c
DTSTAMP:20260422T093220Z
DTSTART:20260619
DTEND:20260620
LOCATION:WTA Homegrounds 1312 Akron Dr
SUMMARY:Wisconsin State Trap Championship
DESCRIPTION:Held at WTA Homegrounds in Nekoosa\,  WI and Heart of Wisconsin
  Sportsman&#8217;s Club in Wisconsin Rapids\,  WI.\nhttps://mysctp.com/even
 ts/wisconsin-state-trap-championships/
URL:https://mysctp.com/events/wisconsin-state-trap-championships/
END:VEVENT
END:VCALENDAR