BEGIN:VCALENDAR
VERSION:2.0
PRODID:-//eventon.com NONSGML v1.0//EN
CALSCALE:GREGORIAN
METHOD:PUBLISH
BEGIN:VEVENT
UID:69e8a745cc01d
DTSTAMP:20260422T104733Z
DTSTART:20260613
DTEND:20260614
LOCATION:Woods and Meadow Hunting Preserve and Sporting Clays N4335 Potter Rd
SUMMARY:Wisconsin State Sporting Clays Championship
DESCRIPTION:\nhttps://mysctp.com/events/wisconsin-state-sporting-clays-cham
 pionships/
URL:https://mysctp.com/events/wisconsin-state-sporting-clays-championships/
END:VEVENT
END:VCALENDAR