BEGIN:VCALENDAR
VERSION:2.0
PRODID:-//eventon.com NONSGML v1.0//EN
CALSCALE:GREGORIAN
METHOD:PUBLISH
BEGIN:VEVENT
UID:69e8a7da7cb2c
DTSTAMP:20260422T105002Z
DTSTART:20260606
DTEND:20260607
LOCATION:Sauk Prairie Trap and Skeet Club E11102 Sauk Prairie Rd
SUMMARY:Wisconsin State Skeet Championship
DESCRIPTION:\nhttps://mysctp.com/events/wisconsin-state-skeet-championships
 /
URL:https://mysctp.com/events/wisconsin-state-skeet-championships/
END:VEVENT
END:VCALENDAR