BEGIN:VCALENDAR
VERSION:2.0
PRODID:-//eventon.com NONSGML v1.0//EN
CALSCALE:GREGORIAN
METHOD:PUBLISH
BEGIN:VEVENT
UID:69eb39da53c67
DTSTAMP:20260424T093730Z
DTSTART:20260620
DTEND:20260621
LOCATION:Cardinal Shooting Center 616 OH-61
SUMMARY:Ohio State Skeet Championship
DESCRIPTION:\nhttps://mysctp.com/events/ohio-state-skeet-championship/
URL:https://mysctp.com/events/ohio-state-skeet-championship/
END:VEVENT
END:VCALENDAR