BEGIN:VCALENDAR
VERSION:2.0
PRODID:-//eventon.com NONSGML v1.0//EN
CALSCALE:GREGORIAN
METHOD:PUBLISH
BEGIN:VEVENT
UID:69e8a79c850eb
DTSTAMP:20260422T104900Z
DTSTART:20260417
DTEND:20260418
LOCATION:
SUMMARY:Southeast Regional
DESCRIPTION:\nhttps://mysctp.com/events/southeast-regional-3/
URL:https://mysctp.com/events/southeast-regional-3/
END:VEVENT
END:VCALENDAR