BEGIN:VCALENDAR
VERSION:2.0
PRODID:-//eventon.com NONSGML v1.0//EN
CALSCALE:GREGORIAN
METHOD:PUBLISH
BEGIN:VEVENT
UID:69e618f3ec8d5
DTSTAMP:20260420T121547Z
DTSTART:20250425
DTEND:20250426
LOCATION:
SUMMARY:Midwest Regional
DESCRIPTION:Trap and Skeet: Stockdale Gun Club 0724 Co Hwy S55\,  Ackley\, 
  IA 50601 Sporting Clays: Crocket Ridge 33505 Birch Ave\,  Ackley\,  IA 506
 01 Singles Trap\,  Doubles Trap \,  SCTP Handicap\,  Sporting Clay and 5 -S
 tand will be offered at this event\nhttps://mysctp.com/events/midwest-regio
 nal-3/
URL:https://mysctp.com/events/midwest-regional-3/
END:VEVENT
END:VCALENDAR