BEGIN:VCALENDAR
VERSION:2.0
PRODID:-//eventon.com NONSGML v1.0//EN
CALSCALE:GREGORIAN
METHOD:PUBLISH
BEGIN:VEVENT
UID:69e619b885d6c
DTSTAMP:20260420T121904Z
DTSTART:20250516
DTEND:20250517
LOCATION:
SUMMARY:SCTP/Winchester Regional
DESCRIPTION:\nhttps://mysctp.com/events/sctp-winchester-regional/
URL:https://mysctp.com/events/sctp-winchester-regional/
END:VEVENT
END:VCALENDAR