BEGIN:VCALENDAR
VERSION:2.0
PRODID:-//eventon.com NONSGML v1.0//EN
CALSCALE:GREGORIAN
METHOD:PUBLISH
BEGIN:VEVENT
UID:69e8bf954d19c
DTSTAMP:20260422T123117Z
DTSTART:20211002
DTEND:20211003
LOCATION:Ft Worth Trap and Skeet 1064 Ranch to Market Rd 2871
SUMMARY:International Fall Open
DESCRIPTION:I-SKEET/BUNKER\nhttps://mysctp.com/events/international-fall-op
 en/
URL:https://mysctp.com/events/international-fall-open/
END:VEVENT
END:VCALENDAR