BEGIN:VCALENDAR
VERSION:2.0
PRODID:-//eventon.com NONSGML v1.0//EN
CALSCALE:GREGORIAN
METHOD:PUBLISH
BEGIN:VEVENT
UID:69e89bb15cbe7
DTSTAMP:20260422T095809Z
DTSTART:20201009T000000Z
DTEND:20201011T235900Z
LOCATION:
SUMMARY:(NM) Satellite Shoot
DESCRIPTION:(NM) Satellite Shoot\nhttps://mysctp.com/events/nm-satellite-sh
 oot/
URL:https://mysctp.com/events/nm-satellite-shoot/
END:VEVENT
END:VCALENDAR